BEGIN:VCALENDAR
VERSION:2.0
PRODID:SchoolNow
CALSCALE:GREGORIAN
BEGIN:VEVENT
UID:1f2bb40e-3458-11f1-affa-0a58a9feac02
DTSTAMP:20260409T211057Z
SUMMARY:Tryouts: Girls High School Outdoor Track & Field (for 9th-12th grad
 ers)
DESCRIPTION:Jacket Outdoor Track Girls Tryouts\n(for 9th-12th grade girls)\
 nJanuary 19\, 2027\nAfter school\nSHS Track
LOCATION:Starkville High School
URL;VALUE=URI:https://www.starkvillesd.com/athletics/calendar/8982559/tryou
 ts-girls-high-school-outdoor-track-field-for-rising-9th-12th-graders
DTSTART:20270119T220000Z
DTEND:20270120T000000Z
END:VEVENT
END:VCALENDAR
