BEGIN:VCALENDAR
VERSION:2.0
PRODID:SchoolNow
CALSCALE:GREGORIAN
BEGIN:VEVENT
UID:52bb2b56-3458-11f1-bbca-0e9167dfd171
DTSTAMP:20260409T211049Z
SUMMARY:Tryouts: Boys High School Outdoor Track & Field (for 9th-12th grade
 rs)
DESCRIPTION:Jacket Outdoor Track Boys Tryouts\n(for 9th-12th grade boys)\nJ
 anuary 20\, 2027\nAfter school\nSHS Track
LOCATION:Starkville High School
URL;VALUE=URI:https://www.starkvillesd.com/athletics/calendar/8982563/tryou
 ts-boys-high-school-outdoor-track-field-for-rising-9th-12th-graders
DTSTART:20270120T220000Z
DTEND:20270121T000000Z
END:VEVENT
END:VCALENDAR
