BEGIN:VCALENDAR
VERSION:2.0
PRODID:SchoolNow
CALSCALE:GREGORIAN
BEGIN:VEVENT
UID:c9791c12-3458-11f1-9091-0200fda79de5
DTSTAMP:20260409T211301Z
SUMMARY:Tryouts: Boys Junior High Outdoor Track & Field (for 7th-8th grader
 s)
DESCRIPTION:Jacket Outdoor Junior High Track Boys Tryouts\n(for 7th-8th gra
 de boys)\nJanuary 22\, 2027\nAfter school\nSHS Track
LOCATION:Starkville High School
URL;VALUE=URI:https://www.starkvillesd.com/athletics/calendar/8982571/tryou
 ts-boys-junior-high-outdoor-track-field-for-7th-8th-graders
DTSTART:20270122T220000Z
DTEND:20270123T000000Z
END:VEVENT
END:VCALENDAR
