BEGIN:VCALENDAR
VERSION:2.0
PRODID:SchoolNow
CALSCALE:GREGORIAN
BEGIN:VEVENT
UID:114d7998-3459-11f1-8298-0240d961d91f
DTSTAMP:20260409T211417Z
SUMMARY:Tryouts: High School Volleyball (for rising 9th-12th graders)
DESCRIPTION:Jacket High School Tryouts\n(for rising 9th-12th grade girls)\n
 April 22-23\nAfter school\nStarkville High School Gym
LOCATION:SHS Gym
URL;VALUE=URI:https://www.starkvillesd.com/athletics/calendar/8982573/tryou
 ts-high-school-volleyball-for-rising-9th-12th-graders-clone
DTSTART:20260423T210000Z
DTEND:20260423T230000Z
END:VEVENT
END:VCALENDAR
