BEGIN:VCALENDAR
VERSION:2.0
PRODID:SchoolNow
CALSCALE:GREGORIAN
BEGIN:VEVENT
UID:512351d2-3459-11f1-b546-0240d961d91f
DTSTAMP:20260409T211604Z
SUMMARY:Tryouts: Junior High Volleyball (for rising 7th-8th graders)
DESCRIPTION:Jacket Junior High Tryouts\n(for rising 7th-8th grade girls)\nA
 pril 20-21\nAfter school\nStarkville High School Gym
LOCATION:SHS Gym
URL;VALUE=URI:https://www.starkvillesd.com/athletics/calendar/8982590/tryou
 ts-junior-high-volleyball-for-rising-7th-8th-graders-clone
DTSTART:20260421T210000Z
DTEND:20260421T230000Z
END:VEVENT
END:VCALENDAR
