BEGIN:VCALENDAR
VERSION:2.0
PRODID:SchoolNow
CALSCALE:GREGORIAN
BEGIN:VEVENT
UID:88581804-3459-11f1-bf5e-0a58a9feac02
DTSTAMP:20260409T211736Z
SUMMARY:Tryouts: Boys and Girls Wrestling (for rising 7th-12th graders)
DESCRIPTION:Jacket Wrestling Boys and Girls Tryouts\n(for rising 7th-12th g
 raders)\nMay 11-12\n5:00pm - 6:30pm\nPartnership Middle School Gym
LOCATION:Partnership Middle School Gym
URL;VALUE=URI:https://www.starkvillesd.com/athletics/calendar/8982596/tryou
 ts-boys-and-girls-wrestling-for-rising-7th-12th-graders-clone
DTSTART:20260512T220000Z
DTEND:20260512T233000Z
END:VEVENT
END:VCALENDAR
