BEGIN:VCALENDAR
VERSION:2.0
PRODID:SchoolNow
CALSCALE:GREGORIAN
BEGIN:VEVENT
UID:daef17ca-bd64-11e9-9515-12ceddfce25a
DTSTAMP:20190813T005407Z
SUMMARY:SHS XC MHSAA Middle School Classic
LOCATION:Clinton\, MS
URL;VALUE=URI:https://www.starkvillesd.com/calendar/2061931/shs-xc-mhsaa-mi
 ddle-school-classic
DTSTART;VALUE=DATE:20191021
DTEND;VALUE=DATE:20191022
END:VEVENT
END:VCALENDAR
