BEGIN:VCALENDAR
VERSION:2.0
PRODID:SchoolNow
CALSCALE:GREGORIAN
BEGIN:VEVENT
UID:236b6098-96ac-11ed-93f0-020888d15683
DTSTAMP:20230117T211559Z
SUMMARY:Sudduth Kindergarten Small Group Tour
LOCATION:Sudduth Elementary
URL;VALUE=URI:https://www.starkvillesd.com/calendar/3669432/sudduth-kinderg
 arten-small-group-tour-clone-clone-clone-clone-clone-clone-clone-clone-clo
 ne-clone-clone
DTSTART:20230302T150000Z
DTEND:20230302T160000Z
END:VEVENT
END:VCALENDAR
