BEGIN:VCALENDAR
VERSION:2.0
PRODID:SchoolNow
CALSCALE:GREGORIAN
BEGIN:VEVENT
UID:21b3fc90-9c12-11ed-919c-0ee29c033071
DTSTAMP:20230124T180918Z
SUMMARY:Touch-A-Truck hosted by Sudduth PTO
URL;VALUE=URI:https://www.starkvillesd.com/calendar/3687468/touch-a-truck-h
 osted-by-sudduth-pto
DTSTART:20230422T150000Z
DTEND:20230422T190000Z
END:VEVENT
END:VCALENDAR
