BEGIN:VCALENDAR
VERSION:2.0
PRODID:SchoolNow
CALSCALE:GREGORIAN
BEGIN:VEVENT
UID:b0e65b62-9c51-11ed-b968-0e7c1a32f2dd
DTSTAMP:20230125T014339Z
SUMMARY:Starkville Oktibbeha College & Career Fair
LOCATION:Starkville Sportsplex
URL;VALUE=URI:https://www.starkvillesd.com/calendar/3688453/starkville-okti
 bbeha-college-career-fair
DTSTART:20230303T150000Z
DTEND:20230303T210000Z
END:VEVENT
END:VCALENDAR
