BEGIN:VCALENDAR
VERSION:2.0
PRODID:SchoolNow
CALSCALE:GREGORIAN
BEGIN:VEVENT
UID:9a4ec76c-9c52-11ed-94d6-0e7c1a32f2dd
DTSTAMP:20230125T015010Z
SUMMARY:Kindergarten Open House: Sudduth Elementary
LOCATION:Sudduth Elementary School
URL;VALUE=URI:https://www.starkvillesd.com/calendar/3688457/kindergarten-op
 en-house-sudduth-elementary
DTSTART:20230309T223000Z
DTEND:20230310T003000Z
END:VEVENT
END:VCALENDAR
