BEGIN:VCALENDAR
VERSION:2.0
PRODID:SchoolNow
CALSCALE:GREGORIAN
BEGIN:VEVENT
UID:e5f4a1da-a1a4-11ed-93b5-023ff70e5351
DTSTAMP:20230221T163821Z
SUMMARY:Jacket TECHcellence Webinar: Student Tech Teams
LOCATION:Virtual
URL;VALUE=URI:https://www.starkvillesd.com/calendar/3705126/jacket-techcell
 ence-webinar-student-tech-teams
DTSTART:20230307T180000Z
DTEND:20230307T190000Z
END:VEVENT
END:VCALENDAR
