BEGIN:VCALENDAR
VERSION:2.0
PRODID:SchoolNow
CALSCALE:GREGORIAN
BEGIN:VEVENT
UID:4574fc2c-a1a5-11ed-a16c-023ff70e5351
DTSTAMP:20230131T202432Z
SUMMARY:Jacket TECHcellence Webinar: PowerSchool Parent Portal & 2023-24 Re
 gistration
LOCATION:Virtual
URL;VALUE=URI:https://www.starkvillesd.com/calendar/3705131/jacket-techcell
 ence-webinar-powerschool-parent-portal-2023-24-registration
DTSTART:20230404T170000Z
DTEND:20230404T180000Z
END:VEVENT
END:VCALENDAR
