BEGIN:VCALENDAR
VERSION:2.0
PRODID:SchoolNow
CALSCALE:GREGORIAN
BEGIN:VEVENT
UID:ce06e87c-a29d-11ed-8a72-023ff70e5351
DTSTAMP:20230202T020336Z
SUMMARY:Buzzy's Art Contest Awards Ceremony
LOCATION:Greensboro Center
URL;VALUE=URI:https://www.starkvillesd.com/calendar/3709966/buzzys-art-cont
 est-awards-ceremony
DTSTART:20230308T000000Z
DTEND:20230308T010000Z
END:VEVENT
END:VCALENDAR
