BEGIN:VCALENDAR
VERSION:2.0
PRODID:SchoolNow
CALSCALE:GREGORIAN
BEGIN:VEVENT
UID:e95696e0-ab3f-11ed-8c9f-0e06cdb5df35
DTSTAMP:20230302T201615Z
SUMMARY:Jacket Archery @ Saltillo [CANCELLED]
DESCRIPTION:CANCELLED\n\nMatch time 5:00pm\n\nAll matches are subject to ch
 ange
LOCATION:Saltillo
URL;VALUE=URI:https://www.starkvillesd.com/calendar/3740409/jacket-archery-
 vs-saltillo2
DTSTART:20230302T230000Z
DTEND:20230303T000000Z
END:VEVENT
END:VCALENDAR
