BEGIN:VCALENDAR
VERSION:2.0
PRODID:SchoolNow
CALSCALE:GREGORIAN
BEGIN:VEVENT
UID:f9da5204-ab3f-11ed-992b-0e06cdb5df35
DTSTAMP:20230213T014438Z
SUMMARY:Jacket Archery @ Neshoba Central Tournament
LOCATION:Neshoba Central
URL;VALUE=URI:https://www.starkvillesd.com/calendar/3740410/jacket-archery-
 vs-winston-academy-neshoba-central-clone-clone-clone
DTSTART:20230304T180000Z
DTEND:20230304T190000Z
END:VEVENT
END:VCALENDAR
