BEGIN:VCALENDAR
VERSION:2.0
PRODID:SchoolNow
CALSCALE:GREGORIAN
BEGIN:VEVENT
UID:1b7906a8-ab40-11ed-9475-0e06cdb5df35
DTSTAMP:20230213T014534Z
SUMMARY:Jacket Archery VS Winston Academy & Meridian
LOCATION:Henderson Ward Stewart Gym
URL;VALUE=URI:https://www.starkvillesd.com/calendar/3740411/jacket-archery-
 vs-winston-academy-neshoba-central-clone-clone-clone
DTSTART:20230307T230000Z
DTEND:20230308T000000Z
END:VEVENT
END:VCALENDAR
