BEGIN:VCALENDAR
VERSION:2.0
PRODID:SchoolNow
CALSCALE:GREGORIAN
BEGIN:VEVENT
UID:2f5f97ea-ab40-11ed-911b-0e06cdb5df35
DTSTAMP:20230307T161719Z
SUMMARY:Jacket Archery @ Tupelo
DESCRIPTION:5:00pm\n\nHWS Gym\n\nAll matches are subject to change.
LOCATION:Tupelo
URL;VALUE=URI:https://www.starkvillesd.com/calendar/3740412/jacket-archery-
 vs-tupelo
DTSTART:20230309T230000Z
DTEND:20230310T000000Z
END:VEVENT
END:VCALENDAR
