BEGIN:VCALENDAR
VERSION:2.0
PRODID:SchoolNow
CALSCALE:GREGORIAN
BEGIN:VEVENT
UID:3ee9836a-ab40-11ed-9272-0e06cdb5df35
DTSTAMP:20230213T014634Z
SUMMARY:Jacket Archery VS Hatley
LOCATION:Henderson Ward Stewart Gym
URL;VALUE=URI:https://www.starkvillesd.com/calendar/3740413/jacket-archery-
 vs-winston-academy-neshoba-central-clone-clone-clone
DTSTART:20230321T220000Z
DTEND:20230321T230000Z
END:VEVENT
END:VCALENDAR
