BEGIN:VCALENDAR
VERSION:2.0
PRODID:SchoolNow
CALSCALE:GREGORIAN
BEGIN:VEVENT
UID:4f2793b6-ab40-11ed-b1ff-0e06cdb5df35
DTSTAMP:20230213T014701Z
SUMMARY:Jacket Archery VS Starkville Academy
LOCATION:Henderson Ward Stewart Gym
URL;VALUE=URI:https://www.starkvillesd.com/calendar/3740414/jacket-archery-
 vs-winston-academy-neshoba-central-clone-clone-clone
DTSTART:20230325T160000Z
DTEND:20230325T170000Z
END:VEVENT
END:VCALENDAR
