BEGIN:VCALENDAR
VERSION:2.0
PRODID:SchoolNow
CALSCALE:GREGORIAN
BEGIN:VEVENT
UID:1d794cb4-ab46-11ed-9868-02567a2eeb49
DTSTAMP:20230303T182216Z
SUMMARY:Jacket Baseball @ Amory [CANCELLED]
DESCRIPTION:CANCELLED\nVarsity 7:00pm\n\nAll games subject to change.\n\nTi
 ckets available at gofan.co
LOCATION:Amory
URL;VALUE=URI:https://www.starkvillesd.com/calendar/3740424/jacket-baseball
 -vs-amory
DTSTART:20230304T010000Z
DTEND:20230304T020000Z
END:VEVENT
END:VCALENDAR
