BEGIN:VCALENDAR
VERSION:2.0
PRODID:SchoolNow
CALSCALE:GREGORIAN
BEGIN:VEVENT
UID:45b73e66-ab46-11ed-aaca-02567a2eeb49
DTSTAMP:20230307T155837Z
SUMMARY:Jacket Baseball VS New Hope
DESCRIPTION:JV 5:00pm / Varsity 7:00pm\n\nAll games subject to change.
LOCATION:Starkville
URL;VALUE=URI:https://www.starkvillesd.com/calendar/3740426/jacket-baseball
 -vs-newhope
DTSTART:20230307T230000Z
DTEND:20230308T000000Z
END:VEVENT
END:VCALENDAR
