BEGIN:VCALENDAR
VERSION:2.0
PRODID:SchoolNow
CALSCALE:GREGORIAN
BEGIN:VEVENT
UID:68fa341e-ab46-11ed-b2e7-02567a2eeb49
DTSTAMP:20230307T163200Z
SUMMARY:Jacket Baseball @ New Hope
DESCRIPTION:All games subject to change.\n\nJV 5:00pm / Varsity 7:00pm
LOCATION:New Hope
URL;VALUE=URI:https://www.starkvillesd.com/calendar/3740428/jacket-baseball
 -vs-newhope0310
DTSTART:20230310T230000Z
DTEND:20230311T000000Z
END:VEVENT
END:VCALENDAR
