BEGIN:VCALENDAR
VERSION:2.0
PRODID:SchoolNow
CALSCALE:GREGORIAN
BEGIN:VEVENT
UID:98b5e72a-ab46-11ed-9bef-02567a2eeb49
DTSTAMP:20230309T212647Z
SUMMARY:Jacket Baseball @ East Webster
DESCRIPTION:All games subject to change.\n\nJV 11:00am / Varsity 1:00pm
LOCATION:East Webster
URL;VALUE=URI:https://www.starkvillesd.com/calendar/3740430/jacket-baseball
 -eastwebster
DTSTART:20230311T170000Z
DTEND:20230311T180000Z
END:VEVENT
END:VCALENDAR
