BEGIN:VCALENDAR
VERSION:2.0
PRODID:SchoolNow
CALSCALE:GREGORIAN
BEGIN:VEVENT
UID:c74c7824-ab46-11ed-b082-02567a2eeb49
DTSTAMP:20230213T023319Z
SUMMARY:Jacket Baseball VS Tupelo
LOCATION:Starkville
URL;VALUE=URI:https://www.starkvillesd.com/calendar/3740432/jacket-baseball
 -vs-houston-clone
DTSTART:20230321T220000Z
DTEND:20230321T230000Z
END:VEVENT
END:VCALENDAR
