BEGIN:VCALENDAR
VERSION:2.0
PRODID:SchoolNow
CALSCALE:GREGORIAN
BEGIN:VEVENT
UID:14264f44-ab47-11ed-a05b-02567a2eeb49
DTSTAMP:20230322T211947Z
SUMMARY:Jacket Baseball @ Tupelo [UPDATED]
DESCRIPTION:All games subject to change.\n\nVarsity 7:00pm
LOCATION:Tupelo
URL;VALUE=URI:https://www.starkvillesd.com/calendar/3740434/jacket-baseball
 -vs-houston-clone
DTSTART:20230324T000000Z
DTEND:20230324T020000Z
END:VEVENT
END:VCALENDAR
