BEGIN:VCALENDAR
VERSION:2.0
PRODID:SchoolNow
CALSCALE:GREGORIAN
BEGIN:VEVENT
UID:405f5664-ab47-11ed-8b40-02567a2eeb49
DTSTAMP:20230322T212016Z
SUMMARY:Jacket Baseball VS Tupelo [UPDATED]
DESCRIPTION:All games subject to change.\n\nJV 12:00pm / Varsity 2:00pm
LOCATION:Starkville
URL;VALUE=URI:https://www.starkvillesd.com/calendar/3740436/jacket-baseball
 -vs-houston-clone
DTSTART:20230325T170000Z
DTEND:20230325T210000Z
END:VEVENT
END:VCALENDAR
