BEGIN:VCALENDAR
VERSION:2.0
PRODID:SchoolNow
CALSCALE:GREGORIAN
BEGIN:VEVENT
UID:96019aa6-ab4b-11ed-aebf-02f00a94f8b9
DTSTAMP:20230302T201708Z
SUMMARY:Jacket Softball VS Philadelphia [CANCELLED]
DESCRIPTION:CANCELLED\n\nAll games subject to change.\n\nJV 5:00pm / Varsit
 y 6:30pm.
LOCATION:Starkville - Lady Jacket Stadium
URL;VALUE=URI:https://www.starkvillesd.com/calendar/3740468/jacket-softball
 -philadelphia2
DTSTART:20230302T230000Z
DTEND:20230303T020000Z
END:VEVENT
END:VCALENDAR
