BEGIN:VCALENDAR
VERSION:2.0
PRODID:SchoolNow
CALSCALE:GREGORIAN
BEGIN:VEVENT
UID:d8394fae-ab4b-11ed-851c-02f00a94f8b9
DTSTAMP:20230218T212934Z
SUMMARY:Jacket Softball @ Eupora
DESCRIPTION:All games subject to change.\n\nJV 11:00am / Varsity 12:30pm.
LOCATION:Eupora
URL;VALUE=URI:https://www.starkvillesd.com/calendar/3740470/jacket-softball
 -ateupora
DTSTART:20230304T170000Z
DTEND:20230304T200000Z
END:VEVENT
END:VCALENDAR
