BEGIN:VCALENDAR
VERSION:2.0
PRODID:SchoolNow
CALSCALE:GREGORIAN
BEGIN:VEVENT
UID:150c0502-ab4c-11ed-b34b-02f00a94f8b9
DTSTAMP:20230213T031117Z
SUMMARY:Jacket Softball VS Grenada
LOCATION:Starkville
URL;VALUE=URI:https://www.starkvillesd.com/calendar/3740472/jacket-softball
 -louisville-clone-clone-clone-clone
DTSTART:20230307T230000Z
DTEND:20230308T000000Z
END:VEVENT
END:VCALENDAR
