BEGIN:VCALENDAR
VERSION:2.0
PRODID:SchoolNow
CALSCALE:GREGORIAN
BEGIN:VEVENT
UID:7dc6c19a-ab4c-11ed-95ca-0edb68000aeb
DTSTAMP:20230213T031413Z
SUMMARY:Jacket Softball VS Kemper County
LOCATION:Starkville
URL;VALUE=URI:https://www.starkvillesd.com/calendar/3740475/jacket-softball
 -louisville-clone-clone-clone-clone-clone
DTSTART:20230318T160000Z
DTEND:20230318T170000Z
END:VEVENT
END:VCALENDAR
