BEGIN:VCALENDAR
VERSION:2.0
PRODID:SchoolNow
CALSCALE:GREGORIAN
BEGIN:VEVENT
UID:ebe450e8-ab4c-11ed-b9e7-0e9b58085e11
DTSTAMP:20230213T031718Z
SUMMARY:Jacket Baseball VS Lake Cormorant
LOCATION:Starkville
URL;VALUE=URI:https://www.starkvillesd.com/calendar/3740477/jacket-baseball
 -vs-houston-clone-clone
DTSTART:20230318T180000Z
DTEND:20230318T190000Z
END:VEVENT
END:VCALENDAR
