BEGIN:VCALENDAR
VERSION:2.0
PRODID:SchoolNow
CALSCALE:GREGORIAN
BEGIN:VEVENT
UID:a4d41da4-ab4d-11ed-96bd-0e9b58085e11
DTSTAMP:20230213T032228Z
SUMMARY:Jacket Softball VS Eupora
LOCATION:Starkville
URL;VALUE=URI:https://www.starkvillesd.com/calendar/3740480/jacket-softball
 -louisville-clone-clone-clone-clone-clone-clone
DTSTART:20230324T220000Z
DTEND:20230324T230000Z
END:VEVENT
END:VCALENDAR
