BEGIN:VCALENDAR
VERSION:2.0
PRODID:SchoolNow
CALSCALE:GREGORIAN
BEGIN:VEVENT
UID:e4373526-ab4d-11ed-8e56-0e9b58085e11
DTSTAMP:20230213T032414Z
SUMMARY:Jacket Softball @ Batesville Tournament
LOCATION:Batesville
URL;VALUE=URI:https://www.starkvillesd.com/calendar/3740482/jacket-softball
 -louisville-clone-clone-clone-clone-clone
DTSTART:20230325T220000Z
DTEND:20230325T230000Z
END:VEVENT
END:VCALENDAR
