BEGIN:VCALENDAR
VERSION:2.0
PRODID:SchoolNow
CALSCALE:GREGORIAN
BEGIN:VEVENT
UID:bfd472b4-afd7-11ed-917e-0e2f013aafa3
DTSTAMP:20230218T220108Z
SUMMARY:Jacket Tennis @ Clinton
LOCATION:Clinton
URL;VALUE=URI:https://www.starkvillesd.com/calendar/3756906/jacket-tennis-c
 linton
DTSTART:20230304T190000Z
DTEND:20230304T210000Z
END:VEVENT
END:VCALENDAR
