BEGIN:VCALENDAR
VERSION:2.0
PRODID:SchoolNow
CALSCALE:GREGORIAN
BEGIN:VEVENT
UID:c4a4706a-b39b-11ed-bb69-0221aecb78f9
DTSTAMP:20230223T170151Z
SUMMARY:Jacket Golf - Starkville CC
DESCRIPTION:Boys/Girls 18 holes\nStarkville Country Club
LOCATION:Starkville Country Club
URL;VALUE=URI:https://www.starkvillesd.com/calendar/3771160/jacket-golf-sta
 rkville-cc
DTSTART:20230301T200000Z
DTEND:20230301T220000Z
END:VEVENT
END:VCALENDAR
