BEGIN:VCALENDAR
VERSION:2.0
PRODID:SchoolNow
CALSCALE:GREGORIAN
BEGIN:VEVENT
UID:0d9adffc-b39c-11ed-86f5-0221aecb78f9
DTSTAMP:20230223T170354Z
SUMMARY:Jacket Golf @ Northwest Rankin (Bay Pointe)
DESCRIPTION:Girls 18 holes\n\nBay Pointe
LOCATION:Bay Pointe
URL;VALUE=URI:https://www.starkvillesd.com/calendar/3771162/jacket-golf-nor
 thwest-rankin-bay-pointe
DTSTART:20230306T150000Z
DTEND:20230306T170000Z
END:VEVENT
END:VCALENDAR
