BEGIN:VCALENDAR
VERSION:2.0
PRODID:SchoolNow
CALSCALE:GREGORIAN
BEGIN:VEVENT
UID:4c56497a-b39c-11ed-8fd3-0221aecb78f9
DTSTAMP:20230223T170539Z
SUMMARY:Jacket Golf @ Tupelo (Tupelo CC)
DESCRIPTION:Boys/Girls 18 holes\n\nTupelo Country Club
LOCATION:Tupelo Country Club
URL;VALUE=URI:https://www.starkvillesd.com/calendar/3771164/jacket-golf-tup
 elo-tupelo-cc
DTSTART:20230323T150000Z
DTEND:20230323T170000Z
END:VEVENT
END:VCALENDAR
