BEGIN:VCALENDAR
VERSION:2.0
PRODID:SchoolNow
CALSCALE:GREGORIAN
BEGIN:VEVENT
UID:4f0c00bc-b6dd-11ed-a0e2-0ecd27510a5b
DTSTAMP:20230227T202834Z
SUMMARY:Jacket Student Tech Teams Applications Due (rising 7th-12th graders
 )
DESCRIPTION:Starkville Oktibbeha School District welcomes rising 7th-12th 
 grade students to apply for our Jacket Tech Teams! The primary goal of 
 Jacket Tech Teams is to spark natural technical skills and enhance commun
 ication skills of our students and provide an opportunity to use those ski
 lls in TECHcellence service to classmates and the district.\n\nFor more in
 formation about how to apply\, visit https://www.starkvillesd.com/devices
 /jacket-tech-teams
URL;VALUE=URI:https://www.starkvillesd.com/calendar/3791614/jacket-student-
 tech-teams-applications-due-rising-7th-12th-graders
DTSTART;VALUE=DATE:20230310
DTEND;VALUE=DATE:20230311
END:VEVENT
END:VCALENDAR
