BEGIN:VCALENDAR
VERSION:2.0
PRODID:SchoolNow
CALSCALE:GREGORIAN
BEGIN:VEVENT
UID:04433824-bac1-11ed-82b9-0237d62eb725
DTSTAMP:20230304T191608Z
SUMMARY:Jacket Dance: Interest Meeting (rising 9th-12th graders)
DESCRIPTION:Be a part of the inaugural year for the SHS Jacket Dance team.
  Candidates MUST attend Interest Meeting in order to tryout when dates ar
 e scheduled in April. \n\nInterest Meeting\n5:00pm\n​​​​​​​
 Starkville High School
LOCATION:Starkville High School
URL;VALUE=URI:https://www.starkvillesd.com/calendar/3816053/jacket-dance-in
 terest-meeting-rising-9th-12th-graders
DTSTART:20230309T230000Z
DTEND:20230310T000000Z
END:VEVENT
END:VCALENDAR
