BEGIN:VCALENDAR
VERSION:2.0
PRODID:SchoolNow
CALSCALE:GREGORIAN
BEGIN:VEVENT
UID:7ccc6e42-bac5-11ed-9232-0e5cb64623cd
DTSTAMP:20230304T194808Z
SUMMARY:District-wide Teacher & Staff Appreciation Week (PTO Initiative)
DESCRIPTION:Thank you to our wonderful PTO organzations for hosting a distr
 ict-wide Teacher & Staff Appreciation Week!
URL;VALUE=URI:https://www.starkvillesd.com/calendar/3817517/district-wide-t
 eacher-staff-appreciation-week-pto-initiative
DTSTART;VALUE=DATE:20230501
DTEND;VALUE=DATE:20230506
END:VEVENT
END:VCALENDAR
