BEGIN:VCALENDAR
VERSION:2.0
PRODID:SchoolNow
CALSCALE:GREGORIAN
BEGIN:VEVENT
UID:23d26b44-c5c8-11ed-b555-0200062d95ff
DTSTAMP:20230318T200450Z
SUMMARY:SHS Singers Spring Concert
DESCRIPTION:Senior Recognition begins at 6:00pm\n\nConcert begins at 6:30pm
 \n\nFirst Baptist Church
LOCATION:First Baptist Church
URL;VALUE=URI:https://www.starkvillesd.com/calendar/3889143/shs-singers-spr
 ing-concert
DTSTART:20230501T230000Z
DTEND:20230502T010000Z
END:VEVENT
END:VCALENDAR
