BEGIN:VCALENDAR
VERSION:2.0
PRODID:SchoolNow
CALSCALE:GREGORIAN
BEGIN:VEVENT
UID:dd8baf1e-c5c8-11ed-baea-0200062d95ff
DTSTAMP:20230318T201001Z
SUMMARY:SHS 10th and 11th Solo Piano and Voice Recital
DESCRIPTION:Starkville High School Theatre\n\nRefreshments will be served.
LOCATION:Starkville High School Theatre
URL;VALUE=URI:https://www.starkvillesd.com/calendar/3889148/shs-10th-and-11
 th-solo-piano-and-voice-recital
DTSTART:20230515T223000Z
DTEND:20230516T003000Z
END:VEVENT
END:VCALENDAR
