BEGIN:VCALENDAR
VERSION:2.0
PRODID:SchoolNow
CALSCALE:GREGORIAN
BEGIN:VEVENT
UID:a85e693e-c5c9-11ed-9b3b-0200062d95ff
DTSTAMP:20230318T201542Z
SUMMARY:Jacket Softball @ Oxford
LOCATION:Oxford
URL;VALUE=URI:https://www.starkvillesd.com/calendar/3889149/jacket-softball
 -louisville-clone-clone-clone-clone
DTSTART:20230321T220000Z
DTEND:20230321T230000Z
END:VEVENT
END:VCALENDAR
