BEGIN:VCALENDAR
VERSION:2.0
PRODID:SchoolNow
CALSCALE:GREGORIAN
BEGIN:VEVENT
UID:4ff0e96e-c69d-11ed-838b-0a54b5e69d73
DTSTAMP:20230319T213351Z
SUMMARY:Jacket Track @ Big Blue Invitational (Meridian)
DESCRIPTION:Boys and Girls Track\n\nBig Blue Invitational at Meridian\n\n4:
 00pm\n\nAll competitions subject to change.
LOCATION:Meridian\, MS
URL;VALUE=URI:https://www.starkvillesd.com/calendar/3893624/jacket-track-bi
 g-blue-invitational-meridian
DTSTART:20230320T210000Z
DTEND:20230320T230000Z
END:VEVENT
END:VCALENDAR
