BEGIN:VCALENDAR
VERSION:2.0
PRODID:SchoolNow
CALSCALE:GREGORIAN
BEGIN:VEVENT
UID:9627e260-c6a3-11ed-870c-0a195425efd7
DTSTAMP:20230319T221541Z
SUMMARY:Jacket Tennis @ Oxford
DESCRIPTION:3:00pm\n\nAll matches subject to change.
LOCATION:Oxford\, MS
URL;VALUE=URI:https://www.starkvillesd.com/calendar/3893628/jacket-tennis-o
 xford
DTSTART:20230321T200000Z
DTEND:20230321T220000Z
END:VEVENT
END:VCALENDAR
