BEGIN:VCALENDAR
VERSION:2.0
PRODID:SchoolNow
CALSCALE:GREGORIAN
BEGIN:VEVENT
UID:8838a916-c78c-11ed-bcdd-0e1495f40711
DTSTAMP:20230321T020311Z
SUMMARY:2023-2024 Kindergarten Registration Opens
DESCRIPTION:Kindergarten Online Registration -- OPENS MARCH 21 \nWho can r
 egister: All incoming kindergarten students who are new to the district\,
  including PreK students currently attending Emerson Preschool \nNOTE: S
 tudents currently enrolled in PreK at Sudduth or West will register as r
 eturning students beginning April 4.\n\nFor information on registration\, 
 visit http://www.starkvillesd.com/registration
URL;VALUE=URI:https://www.starkvillesd.com/calendar/3900429/2023-2024-kinde
 rgarten-registration-opens
DTSTART;VALUE=DATE:20230321
DTEND;VALUE=DATE:20230322
END:VEVENT
END:VCALENDAR
