BEGIN:VCALENDAR
VERSION:2.0
PRODID:SchoolNow
CALSCALE:GREGORIAN
BEGIN:VEVENT
UID:dbe269da-c78c-11ed-b42e-0e1495f40711
DTSTAMP:20230327T152940Z
SUMMARY:2023-2024 Returning Student Registration Opens
DESCRIPTION:Returning Student Online Registration -- OPENS APRIL 4 \nWho c
 an register: All students currently enrolled in SOSD\, including PreK stud
 ents at Sudduth or West Elementary\n\nFor more information on registration
 \, visit http://www.starkvillesd.com/registration
URL;VALUE=URI:https://www.starkvillesd.com/calendar/3900500/2023-2024return
 ing
DTSTART;VALUE=DATE:20230404
DTEND;VALUE=DATE:20230405
END:VEVENT
END:VCALENDAR
