BEGIN:VCALENDAR
VERSION:2.0
PRODID:SchoolNow
CALSCALE:GREGORIAN
BEGIN:VEVENT
UID:249806d0-c78d-11ed-b17f-0e1495f40711
DTSTAMP:20230321T020733Z
SUMMARY:2023-2024 New Student Registration Opens
DESCRIPTION:New Student Online Registration -- OPENS MAY 2 \nWho can regis
 ter: Students in all grades who are new to the district\n\nFor more infor
 mation about registration\, visit http://www.starkvillesd.com/registration
URL;VALUE=URI:https://www.starkvillesd.com/calendar/3900592/2023-2024-new-s
 tudent-registration-opens
DTSTART;VALUE=DATE:20230502
DTEND;VALUE=DATE:20230503
END:VEVENT
END:VCALENDAR
