BEGIN:VCALENDAR
VERSION:2.0
PRODID:SchoolNow
CALSCALE:GREGORIAN
BEGIN:VEVENT
UID:e5e3cdc4-c8f5-11ed-aa2d-027764fc5003
DTSTAMP:20230322T210956Z
SUMMARY:Jacket Tennis VS Germantown
DESCRIPTION:2:00pm\n\nAll matches subject to change.
LOCATION:Starkville High School
URL;VALUE=URI:https://www.starkvillesd.com/calendar/3909022/jacket-tennis-v
 s-germantown
DTSTART:20230323T190000Z
DTEND:20230323T210000Z
END:VEVENT
END:VCALENDAR
